BEGIN:VCALENDAR
VERSION:2.0
PRODID:-//Way TKD - ECPv6.15.13//NONSGML v1.0//EN
CALSCALE:GREGORIAN
METHOD:PUBLISH
X-WR-CALNAME:Way TKD
X-ORIGINAL-URL:https://waytkd.com
X-WR-CALDESC:Events for Way TKD
REFRESH-INTERVAL;VALUE=DURATION:PT1H
X-Robots-Tag:noindex
X-PUBLISHED-TTL:PT1H
BEGIN:VTIMEZONE
TZID:Europe/London
BEGIN:DAYLIGHT
TZOFFSETFROM:+0000
TZOFFSETTO:+0100
TZNAME:BST
DTSTART:20220327T010000
END:DAYLIGHT
BEGIN:STANDARD
TZOFFSETFROM:+0100
TZOFFSETTO:+0000
TZNAME:GMT
DTSTART:20221030T010000
END:STANDARD
BEGIN:DAYLIGHT
TZOFFSETFROM:+0000
TZOFFSETTO:+0100
TZNAME:BST
DTSTART:20230326T010000
END:DAYLIGHT
BEGIN:STANDARD
TZOFFSETFROM:+0100
TZOFFSETTO:+0000
TZNAME:GMT
DTSTART:20231029T010000
END:STANDARD
BEGIN:DAYLIGHT
TZOFFSETFROM:+0000
TZOFFSETTO:+0100
TZNAME:BST
DTSTART:20240331T010000
END:DAYLIGHT
BEGIN:STANDARD
TZOFFSETFROM:+0100
TZOFFSETTO:+0000
TZNAME:GMT
DTSTART:20241027T010000
END:STANDARD
BEGIN:DAYLIGHT
TZOFFSETFROM:+0000
TZOFFSETTO:+0100
TZNAME:BST
DTSTART:20250330T010000
END:DAYLIGHT
BEGIN:STANDARD
TZOFFSETFROM:+0100
TZOFFSETTO:+0000
TZNAME:GMT
DTSTART:20251026T010000
END:STANDARD
BEGIN:DAYLIGHT
TZOFFSETFROM:+0000
TZOFFSETTO:+0100
TZNAME:BST
DTSTART:20260329T010000
END:DAYLIGHT
BEGIN:STANDARD
TZOFFSETFROM:+0100
TZOFFSETTO:+0000
TZNAME:GMT
DTSTART:20261025T010000
END:STANDARD
END:VTIMEZONE
BEGIN:VEVENT
DTSTART;VALUE=DATE:20251101
DTEND;VALUE=DATE:20251103
DTSTAMP:20260420T062356
CREATED:20250520T093042Z
LAST-MODIFIED:20250520T093217Z
UID:8541-1761955200-1762127999@waytkd.com
SUMMARY:2025 British Taekwondo National Poomsae Championships
DESCRIPTION:Dear Way Taekwondo Students & Parents\, \nWe’re pleased to announce that the 2025 British Taekwondo National Poomsae Championships will be taking place on: \n📅 Saturday 1st & Sunday 2nd November 2025📍 David Ross Sports Village\, University of Nottingham \nThis is a fantastic opportunity for students of all ages and levels to showcase their skills\, compete on a national stage\, and represent Way Taekwondo with pride. \n📆 Competition Schedule:\n\n\nSaturday (Nov 1st): Dan Grade\, Freestyle\, and Family Dan Grade categories \n\n\nSunday (Nov 2nd): Para Poomsae\, Kup Grades\, Family Kup\, and Mixed Grade categories \n\n\n📝 A detailed timetable will be shared with participants closer to the event. \nIf you are new to Poomsae\, we encourage you to take part or come along to support your teammates! \n➡️ Interested in competing or attending?Please speak to your instructor or contact us directly to register your interest and reserve your place. \nLet’s make a strong Way Taekwondo presence at the Nationals! 💙🥋
URL:https://waytkd.com/calendar/2025-british-taekwondo-national-poomsae-championships/
LOCATION:David Ross Sports Village\, University of Nottingham
CATEGORIES:Poomsae,Tournament
ATTACH;FMTTYPE=image/png:https://waytkd.com/wp-content/uploads/2025/05/british-taekwondo-logo.png
END:VEVENT
BEGIN:VEVENT
DTSTART;VALUE=DATE:20251004
DTEND;VALUE=DATE:20251006
DTSTAMP:20260420T062356
CREATED:20250520T092227Z
LAST-MODIFIED:20250520T093154Z
UID:8537-1759536000-1759708799@waytkd.com
SUMMARY:2025 British Taekwondo Kyorugi (Sparring) National Championships
DESCRIPTION:Dear Way Taekwondo Students & Parents\, \nWe’re excited to share that the 2025 British Taekwondo Kyorugi National Championships will be held on: \n📅 Saturday 4th & Sunday 5th October 2025📍 EIS Sheffield\, Coleridge Rd\, Sheffield S9 5DA \nThis prestigious event will bring together the best Kyorugi athletes from across the UK for two thrilling days of Olympic-style Taekwondo\, showcasing incredible speed\, skill\, and spirit. \nAs part of Way Taekwondo\, we’d love to see our students and families get involved—whether by competing\, attending\, or supporting our athletes. \n➡️ If you’re interested in participating or attending\, please speak with your instructor or contact us directly to register your interest and book your place. \nLet’s represent Way Taekwondo with pride at this exciting national event! 💪🇬🇧
URL:https://waytkd.com/calendar/2025-british-taekwondo-kyorugi-sparring-national-championships/
LOCATION:EIS Sheffield\, Coleridge Rd\, Sheffield S9 5DA
CATEGORIES:Kyorugi,Tournament
ATTACH;FMTTYPE=image/png:https://waytkd.com/wp-content/uploads/2025/05/british-taekwondo-logo.png
END:VEVENT
BEGIN:VEVENT
DTSTART;VALUE=DATE:20250921
DTEND;VALUE=DATE:20250922
DTSTAMP:20260420T062356
CREATED:20250505T142513Z
LAST-MODIFIED:20250505T142740Z
UID:8478-1758412800-1758499199@waytkd.com
SUMMARY:8th Bluewave Open Poomsae Championships 2025
DESCRIPTION:Dear Members and Parents\, \nWe are Taking part on 8th Bluewave Open Poomsae Championships 2025. Please contact your Instructors and book for the event. \nFor more information Click this link  \nTo view more future events Click here. \nThank you.
URL:https://waytkd.com/calendar/8th-bluewave-open-poomsae-championships-2025/
LOCATION:Hampshire Court Hotel\, Centre Dr\, Chineham Basingstoke\, RG24 8FY
CATEGORIES:Poomsae,Tournament
ATTACH;FMTTYPE=image/png:https://waytkd.com/wp-content/uploads/2025/05/Screenshot-2025-05-05-at-15.26.11.png
END:VEVENT
BEGIN:VEVENT
DTSTART;VALUE=DATE:20250511
DTEND;VALUE=DATE:20250512
DTSTAMP:20260420T062356
CREATED:20250505T140803Z
LAST-MODIFIED:20250505T140803Z
UID:8471-1746921600-1747007999@waytkd.com
SUMMARY:London Taekwondo Poomsae Championships 2025
DESCRIPTION:Message from Organiser \nDear Taekwondo Friends\, \nIt is our pleasure to welcome you and your students to the 4rd London Taekwondo Poomsae Championships. The event will be run under existing World Taekwondo Poomsae Competition rules. \nThe aim of this competition is to help Kup grades to develop\, gain confidence and provide an opportunity for them to compete. \nWe look forward to welcoming you all to London and hope you have an enjoyable and successful day. \nInformation Pack Click here
URL:https://waytkd.com/calendar/london-taekwondo-poomsae-championships-2025/
CATEGORIES:Poomsae,Tournament
ATTACH;FMTTYPE=image/png:https://waytkd.com/wp-content/uploads/2023/02/london.png
END:VEVENT
BEGIN:VEVENT
DTSTART;VALUE=DATE:20230930
DTEND;VALUE=DATE:20231002
DTSTAMP:20260420T062356
CREATED:20230412T123529Z
LAST-MODIFIED:20230523T092136Z
UID:6112-1696032000-1696204799@waytkd.com
SUMMARY:British Taekwondo National Championships 2023 (Kyorugi)
DESCRIPTION:Dear members\, \nWe are planning to take part on this National Championships 2023. if you are intrested\, plese let us know soon. \nVENUE: EIS Sheffield\, Coleridge Road\, Sheffield S9 5DA \nDATE: \nADVANCE on Sat 30th September 2023\nNOVICE on Sunday 1st October 2023 \nOrganiser will be providing Daedo electronic body protector and e-headguard.\nAll athletes should bring their own Daedo socks and all other PPE/equipment. \nDeadline: 29th August 2023 \nEntry fee: £59 \nInformation Pack  \nWay Taekwondo
URL:https://waytkd.com/calendar/british-taekwondo-national-championships-2023-kyorugi/
LOCATION:Barnsley Metrodome\, Queens Ground\, Queens Rd\, Barnsley\, S71 1AN
CATEGORIES:Kyorugi,Tournament
ATTACH;FMTTYPE=image/png:https://waytkd.com/wp-content/uploads/2023/04/Screenshot-2023-05-23-at-09.28.12.png
END:VEVENT
BEGIN:VEVENT
DTSTART;TZID=Europe/London:20230218T080000
DTEND;TZID=Europe/London:20230218T180000
DTSTAMP:20260420T062356
CREATED:20230126T115718Z
LAST-MODIFIED:20230126T121553Z
UID:5665-1676707200-1676743200@waytkd.com
SUMMARY:Ali's Dojang Open 18th Feb 2023
DESCRIPTION:Message from Organiser:\nWe are happy to welcome you all to the first Ali’s Dojang Open\, which will be held at: \n\nSportsDock\, University of East London\nDockland Campus\nUniversity Way\nLondon E16 2RD\n\nWe look forward to seeing you on the 18th February 2023 and wish you all the very best of luck. \nGrandmaster Alipour Ali’s Dojang \n  \n      Info Pack\n   \n\nApplications and Payment\nAll applications are to be made online at poomsae-reg \nClosing date for applications: Sunday 5th February at 2100 \nPayment is required a week after an athlete has been registered online to ensure that others wishing to participate are given fair opportunities. The list will be reviewed weekly to ensure that this is managed. We therefore encourage you to\n    enter athletes whom you are sure will be participating. \nPrice:\n\n£35 per application\n£34 per pier\n£36 per Team\n\nBank Details:\nAll payments to be made via bank transfer to: \n\nAccount name: Alis Dojang\nAccount number: 71468375\nSort code: 40-05-07\nReference:\n\nPlease use your team name as your reference for the bank transfer and email event@alisdojang.co.uk\n    to confirm that transfer is complete. \nCoaches must ensure that email address used to register is the email address that they can be contacted on for updates. \nCoaches are responsible for ensuring that their players’ categories and entry details are correct as no refunds will be given if errors have been made.
URL:https://waytkd.com/calendar/alis-dojang-open-18th-feb-2023/
LOCATION:University of East London\, 4-6 University Way London\, London\, E16 2RD \, United Kingdom
CATEGORIES:Tournament
ATTACH;FMTTYPE=image/png:https://waytkd.com/wp-content/uploads/2023/01/Screenshot-2023-01-26-at-11.58.19.png
END:VEVENT
END:VCALENDAR