BEGIN:VCALENDAR
VERSION:2.0
PRODID:-//Way TKD - ECPv6.15.13//NONSGML v1.0//EN
CALSCALE:GREGORIAN
METHOD:PUBLISH
X-ORIGINAL-URL:https://waytkd.com
X-WR-CALDESC:Events for Way TKD
REFRESH-INTERVAL;VALUE=DURATION:PT1H
X-Robots-Tag:noindex
X-PUBLISHED-TTL:PT1H
BEGIN:VTIMEZONE
TZID:Europe/London
BEGIN:DAYLIGHT
TZOFFSETFROM:+0000
TZOFFSETTO:+0100
TZNAME:BST
DTSTART:20250330T010000
END:DAYLIGHT
BEGIN:STANDARD
TZOFFSETFROM:+0100
TZOFFSETTO:+0000
TZNAME:GMT
DTSTART:20251026T010000
END:STANDARD
BEGIN:DAYLIGHT
TZOFFSETFROM:+0000
TZOFFSETTO:+0100
TZNAME:BST
DTSTART:20260329T010000
END:DAYLIGHT
BEGIN:STANDARD
TZOFFSETFROM:+0100
TZOFFSETTO:+0000
TZNAME:GMT
DTSTART:20261025T010000
END:STANDARD
BEGIN:DAYLIGHT
TZOFFSETFROM:+0000
TZOFFSETTO:+0100
TZNAME:BST
DTSTART:20270328T010000
END:DAYLIGHT
BEGIN:STANDARD
TZOFFSETFROM:+0100
TZOFFSETTO:+0000
TZNAME:GMT
DTSTART:20271031T010000
END:STANDARD
END:VTIMEZONE
BEGIN:VEVENT
DTSTART;TZID=Europe/London:20260509T120000
DTEND;TZID=Europe/London:20260509T160000
DTSTAMP:20260425T143543
CREATED:20260228T131626Z
LAST-MODIFIED:20260403T132930Z
UID:9558-1778328000-1778342400@waytkd.com
SUMMARY:Dan Grading Seminar - Sat 9th May 2026
DESCRIPTION:Get Ready: Dan Grading Seminar \nAiming for your Black Belt or next Dan promotion in 25th July 2026? \nWe have planned a Dan Grading Seminar for Saturday\, 9th May 2026. \nThis session is open to all British Taekwondo members and is the best way to ensure your patterns and technique are up to standard before the big day. \n\n\nSave the date now. \n\n\nFull details coming soon.
URL:https://waytkd.com/calendar/dan-grading-seminar-sat-9th-may-2026/
LOCATION:The Stour Centre\, Station Approach\,\, Ashford\, TN23 1ET
CATEGORIES:Seminar
ATTACH;FMTTYPE=image/jpeg:https://waytkd.com/wp-content/uploads/2023/12/20231111_154852-scaled.jpg
ORGANIZER;CN="WAY TKD":MAILTO:info@waytkd.com
END:VEVENT
BEGIN:VEVENT
DTSTART;TZID=Europe/London:20260531T140000
DTEND;TZID=Europe/London:20260531T180000
DTSTAMP:20260425T143543
CREATED:20251213T135945Z
LAST-MODIFIED:20251213T135945Z
UID:9274-1780236000-1780250400@waytkd.com
SUMMARY:Training Seminar (Poomsae & Combat Sport) 2026
DESCRIPTION:Dear Members\, \nFor your information\, we are organising a Training Seminar for our students to encourage them towards Poomsae and Combat Sport Competitions. The event duration will be 4 hours. Do not miss this opportunity. \nPlease note that this event will consist of two phases. In the first phase\, participants will receive instruction and Training in Poomsae & Combat Sport. Following this\, in the second phase\, students will engage in more practical exercises simulating a competition setting. Medals will be awarded to winners at the conclusion of the event. \nDress Code: WT Approved Taekwondo White Uniform & Full protective equipments.Other Clubs: If you are from other clubs\, you need to show proof of British Taekwondo valid membership. \n\n  \n\nVenue: The Stour Centre\, Station Approach\, Ashford TN23 1ETDate: Sunday\, 31st May 2026 \nTime: 2pm-6pm (Please arrive 15 minutes early!) \nCost: £25 (Cash/Bank Transfer) | Family Discount: 3rd member free.
URL:https://waytkd.com/calendar/training-seminar-poomsae-combat-sport-2026/
CATEGORIES:Seminar
ATTACH;FMTTYPE=image/jpeg:https://waytkd.com/wp-content/uploads/2022/11/IMG-20221004-WA0001.jpg
END:VEVENT
BEGIN:VEVENT
DTSTART;TZID=Europe/London:20261017T120000
DTEND;TZID=Europe/London:20261017T170000
DTSTAMP:20260425T143543
CREATED:20251213T134704Z
LAST-MODIFIED:20251213T135032Z
UID:9272-1792238400-1792256400@waytkd.com
SUMMARY:Dan Grading Seminar - Sat 17th October 2026
DESCRIPTION:Get Ready: Dan Grading Seminar \nAiming for your Black Belt or next Dan promotion in December? \nWe have planned a Dan Grading Seminar for Saturday\, 17th October. \nThis session is open to all British Taekwondo members and is the best way to ensure your patterns and technique are up to standard before the big day. \n\n\nSave the date now. \n\n\nFull details coming soon.
URL:https://waytkd.com/calendar/dan-grading-seminar-sat-17th-october-2026/
CATEGORIES:Seminar
ATTACH;FMTTYPE=image/jpeg:https://waytkd.com/wp-content/uploads/2023/11/20231111_154852-scaled.jpg
END:VEVENT
END:VCALENDAR