BEGIN:VCALENDAR
VERSION:2.0
PRODID:-//Way TKD - ECPv6.15.13//NONSGML v1.0//EN
CALSCALE:GREGORIAN
METHOD:PUBLISH
X-ORIGINAL-URL:https://waytkd.com
X-WR-CALDESC:Events for Way TKD
REFRESH-INTERVAL;VALUE=DURATION:PT1H
X-Robots-Tag:noindex
X-PUBLISHED-TTL:PT1H
BEGIN:VTIMEZONE
TZID:Europe/London
BEGIN:DAYLIGHT
TZOFFSETFROM:+0000
TZOFFSETTO:+0100
TZNAME:BST
DTSTART:20220327T010000
END:DAYLIGHT
BEGIN:STANDARD
TZOFFSETFROM:+0100
TZOFFSETTO:+0000
TZNAME:GMT
DTSTART:20221030T010000
END:STANDARD
BEGIN:DAYLIGHT
TZOFFSETFROM:+0000
TZOFFSETTO:+0100
TZNAME:BST
DTSTART:20230326T010000
END:DAYLIGHT
BEGIN:STANDARD
TZOFFSETFROM:+0100
TZOFFSETTO:+0000
TZNAME:GMT
DTSTART:20231029T010000
END:STANDARD
BEGIN:DAYLIGHT
TZOFFSETFROM:+0000
TZOFFSETTO:+0100
TZNAME:BST
DTSTART:20240331T010000
END:DAYLIGHT
BEGIN:STANDARD
TZOFFSETFROM:+0100
TZOFFSETTO:+0000
TZNAME:GMT
DTSTART:20241027T010000
END:STANDARD
END:VTIMEZONE
BEGIN:VEVENT
DTSTART;VALUE=DATE:20231014
DTEND;VALUE=DATE:20231016
DTSTAMP:20260425T172141
CREATED:20230523T081745Z
LAST-MODIFIED:20230523T082236Z
UID:6223-1697241600-1697414399@waytkd.com
SUMMARY:British Taekwondo National Poomsae Championships 2023
DESCRIPTION:The 2023 British Taekwondo National Poomsae Championships will take place at the University of Worcester Arena on Saturday 14th and Sunday 15th October. \nPlease mark the date in your diary and keep an eye on British Taekwondo’s channels for the entry pack later this summer. \nThe entry pack for the British Taekwondo National Poomsae Championships – Worcester 2023 will be released at a later date. British Taekwondo will provide at least one-weeks’ notice before it is published. Confirmation of the Dan and Kup days\, along with the other divisions\, will be within in the entry pack\, as well as the entry opening and closing dates. \nInformation about spectator tickets will also be included in the entry pack. \nThe University of Worcester Arena has been home to the British Taekwondo National Poomsae Championships since 2019\, providing state of the art facilities for the most prestigious Poomsae event on the calendar in the UK. We’re delighted to return to Worcester for the fourth time and look forward to joining the Poomsae community in a weekend of high-quality competition. \nEvent: British Taekwondo National Poomsae Championships 2023 \nDate: Saturday 14th and Sunday 15th October \nTimes: Session start times to be confirmed at a later date \nLocation: University of Worcester Arena\, Worcester\, WR2 5JN \nInformation Pack Click Here
URL:https://waytkd.com/calendar/british-taekwondo-national-poomsae-championships-2023/
LOCATION:University of Worcester Arena\, Hylton Rd\, Worceste\, WR2 5JN\, United Kingdom
CATEGORIES:Poomsae
ATTACH;FMTTYPE=image/png:https://waytkd.com/wp-content/uploads/2023/05/British-Taekwondo-National-Poomsae-Championships-2023-1-1200x600-1.png
END:VEVENT
BEGIN:VEVENT
DTSTART;TZID=Europe/London:20230917T090000
DTEND;TZID=Europe/London:20230917T180000
DTSTAMP:20260425T172141
CREATED:20230523T074122Z
LAST-MODIFIED:20231002T143751Z
UID:6216-1694941200-1694973600@waytkd.com
SUMMARY:6th Bluewave Open Poomsae Championships
DESCRIPTION:  \nDate: Sunday\, 17th September 2023 \nVenue: Conference Centre\, Hampshire Court Hotel\, 1 Centre Drive\, Chineham\, Basingstoke RG24 8FY \n\n\n\n\n\n\nAudits (coaches and competitors) \nThe deadline for submission of entries for audit is 11.59pm on Wednesday 30th August 2023. All competitors sent through audit must be paid for even if they withdraw. All coaches must be registered for the event prior to the audit. \nProtests \nOnly the Head Coach will be allowed to protest to the Chief Referee\, the protest form must be submitted within 10 minutes of the end of the contest in question. A fee of £75.00 will be paid for each protest lodged. The decision of the Chief Referee is final. \nThe entry fee are as follows: \n\n\n\n\n\n\nIndividual- £40\nPair (per pair)- £42\nTeam (per team of 3)- £46\nPara-Division- £40\nFreestyle £40\nFreestyle Pair (per pair)- £42\nFreestyle Team (per team of 5)- £50 \nMore information click here \nThank you.
URL:https://waytkd.com/calendar/6th-bluewave-open-poomsae-championships/
LOCATION:Hampshire Court Hotel\, Centre Dr\, Chineham Basingstoke\, RG24 8FY
CATEGORIES:Poomsae
ATTACH;FMTTYPE=image/png:https://waytkd.com/wp-content/uploads/2023/05/Screenshot-2023-05-23-at-08.38.11.png
END:VEVENT
BEGIN:VEVENT
DTSTART;TZID=Europe/London:20230701T083000
DTEND;TZID=Europe/London:20230701T183000
DTSTAMP:20260425T172141
CREATED:20230221T081552Z
LAST-MODIFIED:20230523T093156Z
UID:5913-1688200200-1688236200@waytkd.com
SUMMARY:2nd Best Leg Poomsae Championships
DESCRIPTION:COMPETITON DETAILS\n1. ORGANISATION\nEvent Sanctioned By: British Taekwondo\nOrganiser: Best Leg Taekwondo Academy \nOrganiser: Best Leg Taekwondo Academy\nFacebook: www.facebook.com/best-Leg-Taekwondo-Academy\nInstagram: bestlegtkdinternationalopen & bestlegtaekwondoacademy.\nWebsite: www.bestleg.com \nCompetition Director: Master Martins Obiorah\nE-Mail: martins.obiorah@bestleg.com \nEvent Chief Referee: Gerry REILLY\nEmail: chair.poomsaereferees@britishtaekwondo.org \nCompetition Management: Martins Obiorah\nContact: 07970 382 889\nEmail: martins.obiorah@bestleg.com \nSystem Management: Marko Marchevska \nCompetition Registration: www.poomsae-reg.com \nWelfare Officer: Ms Jade Campbell \nLead Medical Officer: DR Burhanudin Busu \n2. VENUE & DATE\nDate: Saturday 1st July 2023\nVenue: Crystal Palace National Sports Centre Ledrington Road\, Crystal Palace London\, SE19 2BB \n3. Entry Fee: £45 \n4. EVENT SCHEDULE\nRegistration: 08:30 – 09:00\nCoaches meeting: 09:10\nCompetition Start: 09:30\nCompetition Finish: 18:00\nAwards Ceremony: 18:30 \nAll times are approximate and subject to change \nInfo Pack
URL:https://waytkd.com/calendar/2nd-best-leg-poomsae-championships/
LOCATION:Crystal Palace National Sport Centre\, Ledrington Rd\, London\, SE19 2BB
CATEGORIES:Poomsae
ATTACH;FMTTYPE=image/png:https://waytkd.com/wp-content/uploads/2023/02/Screenshot-2023-02-18-at-17.41.40-1.png
END:VEVENT
BEGIN:VEVENT
DTSTART;TZID=Europe/London:20230507T093000
DTEND;TZID=Europe/London:20230507T200000
DTSTAMP:20260425T172141
CREATED:20230206T202133Z
LAST-MODIFIED:20250505T140700Z
UID:5803-1683451800-1683489600@waytkd.com
SUMMARY:London Taekwondo Poomsae Championships 2024
DESCRIPTION:Dear Taekwondo Friends\, \nIt is our pleasure to welcome you and your students to the 4th London Taekwondo Poomsae Championships. The event will be run under existing World Taekwondo Poomsae Competition rules. \nThe aim of this competition is to help Kup grades to develop\, gain confidence and provide an opportunity for them to compete. \nWe look forward to welcoming you all to London and hope you have an enjoyable and successful day. \n\n\n\nInformation Pack Click here
URL:https://waytkd.com/calendar/london-taekwondo-poomsae-championships/
LOCATION:aberdashers\, Knights Academy\, Launcelot Road\, Bromley\, London\, BR1 5EB\, United Kingdom
CATEGORIES:Championships,Poomsae
ATTACH;FMTTYPE=image/png:https://waytkd.com/wp-content/uploads/2023/02/london.png
ORGANIZER;CN="Master Azim Razak (7th Dan)":MAILTO:londonpoomsaechampionship2023@gmail.com
END:VEVENT
END:VCALENDAR