BEGIN:VCALENDAR
VERSION:2.0
PRODID:-//Way TKD - ECPv6.15.13//NONSGML v1.0//EN
CALSCALE:GREGORIAN
METHOD:PUBLISH
X-WR-CALNAME:Way TKD
X-ORIGINAL-URL:https://waytkd.com
X-WR-CALDESC:Events for Way TKD
REFRESH-INTERVAL;VALUE=DURATION:PT1H
X-Robots-Tag:noindex
X-PUBLISHED-TTL:PT1H
BEGIN:VTIMEZONE
TZID:Europe/London
BEGIN:DAYLIGHT
TZOFFSETFROM:+0000
TZOFFSETTO:+0100
TZNAME:BST
DTSTART:20220327T010000
END:DAYLIGHT
BEGIN:STANDARD
TZOFFSETFROM:+0100
TZOFFSETTO:+0000
TZNAME:GMT
DTSTART:20221030T010000
END:STANDARD
BEGIN:DAYLIGHT
TZOFFSETFROM:+0000
TZOFFSETTO:+0100
TZNAME:BST
DTSTART:20230326T010000
END:DAYLIGHT
BEGIN:STANDARD
TZOFFSETFROM:+0100
TZOFFSETTO:+0000
TZNAME:GMT
DTSTART:20231029T010000
END:STANDARD
BEGIN:DAYLIGHT
TZOFFSETFROM:+0000
TZOFFSETTO:+0100
TZNAME:BST
DTSTART:20240331T010000
END:DAYLIGHT
BEGIN:STANDARD
TZOFFSETFROM:+0100
TZOFFSETTO:+0000
TZNAME:GMT
DTSTART:20241027T010000
END:STANDARD
BEGIN:DAYLIGHT
TZOFFSETFROM:+0000
TZOFFSETTO:+0100
TZNAME:BST
DTSTART:20250330T010000
END:DAYLIGHT
BEGIN:STANDARD
TZOFFSETFROM:+0100
TZOFFSETTO:+0000
TZNAME:GMT
DTSTART:20251026T010000
END:STANDARD
BEGIN:DAYLIGHT
TZOFFSETFROM:+0000
TZOFFSETTO:+0100
TZNAME:BST
DTSTART:20260329T010000
END:DAYLIGHT
BEGIN:STANDARD
TZOFFSETFROM:+0100
TZOFFSETTO:+0000
TZNAME:GMT
DTSTART:20261025T010000
END:STANDARD
END:VTIMEZONE
BEGIN:VEVENT
DTSTART;VALUE=DATE:20251101
DTEND;VALUE=DATE:20251103
DTSTAMP:20260422T134753
CREATED:20250520T093042Z
LAST-MODIFIED:20250520T093217Z
UID:8541-1761955200-1762127999@waytkd.com
SUMMARY:2025 British Taekwondo National Poomsae Championships
DESCRIPTION:Dear Way Taekwondo Students & Parents\, \nWe’re pleased to announce that the 2025 British Taekwondo National Poomsae Championships will be taking place on: \n📅 Saturday 1st & Sunday 2nd November 2025📍 David Ross Sports Village\, University of Nottingham \nThis is a fantastic opportunity for students of all ages and levels to showcase their skills\, compete on a national stage\, and represent Way Taekwondo with pride. \n📆 Competition Schedule:\n\n\nSaturday (Nov 1st): Dan Grade\, Freestyle\, and Family Dan Grade categories \n\n\nSunday (Nov 2nd): Para Poomsae\, Kup Grades\, Family Kup\, and Mixed Grade categories \n\n\n📝 A detailed timetable will be shared with participants closer to the event. \nIf you are new to Poomsae\, we encourage you to take part or come along to support your teammates! \n➡️ Interested in competing or attending?Please speak to your instructor or contact us directly to register your interest and reserve your place. \nLet’s make a strong Way Taekwondo presence at the Nationals! 💙🥋
URL:https://waytkd.com/calendar/2025-british-taekwondo-national-poomsae-championships/
LOCATION:David Ross Sports Village\, University of Nottingham
CATEGORIES:Poomsae,Tournament
ATTACH;FMTTYPE=image/png:https://waytkd.com/wp-content/uploads/2025/05/british-taekwondo-logo.png
END:VEVENT
BEGIN:VEVENT
DTSTART;VALUE=DATE:20251018
DTEND;VALUE=DATE:20251019
DTSTAMP:20260422T134753
CREATED:20250930T093604Z
LAST-MODIFIED:20250930T093800Z
UID:8832-1760745600-1760831999@waytkd.com
SUMMARY:Aquila Poomsae Open - 18th October 2025
DESCRIPTION:Invitation message from the Organiser \n”\nDear all athletes\, coaches and supporters\,\nWe look forward to welcoming you to the 2025 edition of the Aquila Open taking place on Saturday 18th October 2025 at UEL SportsDock\, London.\nBest of luck in your preparation for this event. Aquila Taekwondo. ” \nEvent overview \nEvent date: Saturday 18th October 2025\nLocation: UEL SportsDock\, University Way\, Beckton\, London\, E16 2RD\nDeadline for entries: Friday 3rd October 21:00\nRegistration: www.poomsae-reg.com\nEntry Fee:\nIndividual – £50\nPairs – £48\nTeam – £48\nFamily – £50\nChief Referee: Gerry Reilly \nFor more information click here
URL:https://waytkd.com/calendar/aquila-poomsae-open-18th-october-2025/
LOCATION:UEL SportsDock\, University Way\, Beckton\, London\, E16 2RD\, UEL SportsDock\, University Way\, Beckton\, London\, E16 2RD\, United Kingdom
CATEGORIES:Poomsae
ATTACH;FMTTYPE=image/png:https://waytkd.com/wp-content/uploads/2020/01/logoAquila.png
END:VEVENT
BEGIN:VEVENT
DTSTART;VALUE=DATE:20250921
DTEND;VALUE=DATE:20250922
DTSTAMP:20260422T134753
CREATED:20250505T142513Z
LAST-MODIFIED:20250505T142740Z
UID:8478-1758412800-1758499199@waytkd.com
SUMMARY:8th Bluewave Open Poomsae Championships 2025
DESCRIPTION:Dear Members and Parents\, \nWe are Taking part on 8th Bluewave Open Poomsae Championships 2025. Please contact your Instructors and book for the event. \nFor more information Click this link  \nTo view more future events Click here. \nThank you.
URL:https://waytkd.com/calendar/8th-bluewave-open-poomsae-championships-2025/
LOCATION:Hampshire Court Hotel\, Centre Dr\, Chineham Basingstoke\, RG24 8FY
CATEGORIES:Poomsae,Tournament
ATTACH;FMTTYPE=image/png:https://waytkd.com/wp-content/uploads/2025/05/Screenshot-2025-05-05-at-15.26.11.png
END:VEVENT
BEGIN:VEVENT
DTSTART;VALUE=DATE:20250705
DTEND;VALUE=DATE:20250706
DTSTAMP:20260422T134753
CREATED:20250330T113254Z
LAST-MODIFIED:20250624T130212Z
UID:8356-1751673600-1751759999@waytkd.com
SUMMARY:4th Best Leg International Poomsae Championships 2025
DESCRIPTION:Dear members\, \nHere are the details for the next upcoming competition opportunity: \nEvent: 4th Best Leg International Poomsae Championships \nDate: Saturday\, 5th July 2025 \nLocation: Crystal Palace National Sports Centre\, London \nRegistration Deadline: Sunday\, 28th June 2025 \nEntry Fees: \n\nIndividual: £50\nPairs: £55\nTeams: £60\nFamily: £60\n\nCurrent Participants: \nMore Information: \nThe full details pack is available here: Best Leg Info Pack \nInterested? \nIf you’d like to take part\, please speak to one of the coaches well before the deadline. \nYou can find more competitions on our Google Doc \nBest regards\, \nThe Way Taekwondo Team
URL:https://waytkd.com/calendar/4th-best-leg-poomsae-championships-2025/
CATEGORIES:Poomsae
ATTACH;FMTTYPE=image/png:https://waytkd.com/wp-content/uploads/2020/10/poomsae.png
END:VEVENT
BEGIN:VEVENT
DTSTART;VALUE=DATE:20250511
DTEND;VALUE=DATE:20250512
DTSTAMP:20260422T134753
CREATED:20250505T140803Z
LAST-MODIFIED:20250505T140803Z
UID:8471-1746921600-1747007999@waytkd.com
SUMMARY:London Taekwondo Poomsae Championships 2025
DESCRIPTION:Message from Organiser \nDear Taekwondo Friends\, \nIt is our pleasure to welcome you and your students to the 4rd London Taekwondo Poomsae Championships. The event will be run under existing World Taekwondo Poomsae Competition rules. \nThe aim of this competition is to help Kup grades to develop\, gain confidence and provide an opportunity for them to compete. \nWe look forward to welcoming you all to London and hope you have an enjoyable and successful day. \nInformation Pack Click here
URL:https://waytkd.com/calendar/london-taekwondo-poomsae-championships-2025/
CATEGORIES:Poomsae,Tournament
ATTACH;FMTTYPE=image/png:https://waytkd.com/wp-content/uploads/2023/02/london.png
END:VEVENT
BEGIN:VEVENT
DTSTART;VALUE=DATE:20250503
DTEND;VALUE=DATE:20250504
DTSTAMP:20260422T134753
CREATED:20250330T105635Z
LAST-MODIFIED:20250330T113315Z
UID:8350-1746230400-1746316799@waytkd.com
SUMMARY:Sat 3rd May 2025 - London International Open Poomsae Championships
DESCRIPTION:  \nDear Members\, \nQuick heads-up about an exciting competition opportunity: \nEvent: London International Open Poomsae Championships \nDate: Saturday\, 3rd May 2025 \nLocation: Lee Valley Athletics Centre\, London N9 0AR \nDeadlines & Costs: \n\nURGENT: Early Bird registration ends TODAY (Sunday\, 13th April)! This saves £10-£15 on entry fees.\n\n(K3: £60\, K2: £70\, K1/Dan: £85)\n\n\nFinal Registration Deadline: Sunday\, 13th April 2025\n\n(Standard Fees: K3: £70\, K2: £80\, K1/Dan: £95)\n\n\n\nMore Information: \nYou can find the full details pack here: London Open Info PDF \nInterested? \nIf you’d like to participate\, please speak to a coach ASAP\, especially if you want to take advantage of the Early Bird rate today! \nYou can find more competitions on our Google Doc \nBest regards\, \nThe Way Taekwondo Team
URL:https://waytkd.com/calendar/sat-3rd-may-2025-london-international-open-poomsae-championships/
CATEGORIES:Poomsae
ATTACH;FMTTYPE=image/jpeg:https://waytkd.com/wp-content/uploads/2025/03/London-International-Poomsae-Championships.jpg
END:VEVENT
BEGIN:VEVENT
DTSTART;VALUE=DATE:20250427
DTEND;VALUE=DATE:20250428
DTSTAMP:20260422T134753
CREATED:20250403T071143Z
LAST-MODIFIED:20250403T071325Z
UID:8400-1745712000-1745798399@waytkd.com
SUMMARY:Gajok Poomsae Championships
DESCRIPTION:Invitation message from Organiser! \nDear Taekwondo Friends\, \nIt is our pleasure to welcome you back to the 2025 Gajok Poomsae Championships. \nThe event will be run under existing World Taekwondo (WT) Poomsae Competition rules. Only WT recognised Poomsae and Para-Taekwondo will be included in this competition. \nWe will be using full electronic scoring for Poomsae where British Taekwondo’s experienced Poomsae officials will ensure the highest standard of judging. \nWe look forward to welcoming you all and we hope you have an enjoyable and successful day. \nYours sincerely\, \nOrganising Committee \nReference \n\nDate: Sunday 27th April 2025\nTime: 0830rs – 1800hrs\nEntry Fee: Individual-£40\, Pair-£40\, Team-£45\, Para-£40 \nVenue: Ian Robinson Sports Centre\, Liverpool\, L23 0QP \nPlease let us know if you are interested! By Message
URL:https://waytkd.com/calendar/gajok-poomsae-championships/
LOCATION:Ian Robinson Sports Centre\, Liverpool
CATEGORIES:Poomsae
ATTACH;FMTTYPE=image/png:https://waytkd.com/wp-content/uploads/2025/04/Screenshot-2025-04-03-at-07.46.26.png
END:VEVENT
BEGIN:VEVENT
DTSTART;VALUE=DATE:20241020
DTEND;VALUE=DATE:20241021
DTSTAMP:20260422T134753
CREATED:20241001T124530Z
LAST-MODIFIED:20241001T124703Z
UID:7627-1729382400-1729468799@waytkd.com
SUMMARY:Aquila Poomsae Open 2024
DESCRIPTION:Dear Members\, \nWe are excited to announce that the Aquila Poomsae Open 2024 will be held on Sunday\, 20th October 2024 at UEL SportsDock\, University of East London\, Docklands Campus\, University Way\, Beckton\, E16 2RD. \nFor more details\, please here \nIf you have any questions\, feel free to contact us. \nThank you. \nWay Taekwondo
URL:https://waytkd.com/calendar/aquila-poomsae-open-2024/
CATEGORIES:event,Poomsae
ATTACH;FMTTYPE=image/png:https://waytkd.com/wp-content/uploads/2023/02/Screenshot-2023-02-18-at-17.41.40-1.png
END:VEVENT
BEGIN:VEVENT
DTSTART;VALUE=DATE:20240922
DTEND;VALUE=DATE:20240923
DTSTAMP:20260422T134753
CREATED:20231210T143731Z
LAST-MODIFIED:20250505T142236Z
UID:6926-1726963200-1727049599@waytkd.com
SUMMARY:7th Bluewave Open Poomsae Championships
DESCRIPTION:Visit this website: https://www.poomsae-reg.com \nWay Taekwondo Team Players: \n\nHana Kramberger (Individual)\nHarriet Burch-Gull (Individual)
URL:https://waytkd.com/calendar/7th-bluewave-open-poomsae-championships-2/
LOCATION:Hampshire Court Hotel\, Centre Dr\, Chineham\, Basingstoke\, RG24 8FY\, United Kingdom
CATEGORIES:event,Poomsae
ATTACH;FMTTYPE=image/png:https://waytkd.com/wp-content/uploads/2023/02/Screenshot-2023-02-18-at-17.41.40-1.png
END:VEVENT
BEGIN:VEVENT
DTSTART;VALUE=DATE:20240706
DTEND;VALUE=DATE:20240707
DTSTAMP:20260422T134753
CREATED:20231210T143631Z
LAST-MODIFIED:20240701T202901Z
UID:6923-1720224000-1720310399@waytkd.com
SUMMARY:3rd Best Leg Poomsae Championships
DESCRIPTION:Hello! \nWay Taekwondo members are taking part in 3rd Best Leg Poomsae championships on Saturday 6th July 2024. \nFor more information Click here ! \nWay TKD Team\n1. Harriet Burch-Gull (Individual)\n2. Hana Kramberger (Individual)\n3. Maulik Limbu (Individual)
URL:https://waytkd.com/calendar/3rd-best-leg-poomsae-championships/
LOCATION:Crystal Palace National Sports Centre\, London\, Crystal Palace National Sports Centre\, London
CATEGORIES:event,Poomsae
ATTACH;FMTTYPE=image/png:https://waytkd.com/wp-content/uploads/2023/02/Screenshot-2023-02-18-at-17.41.40-1.png
END:VEVENT
BEGIN:VEVENT
DTSTART;VALUE=DATE:20240406
DTEND;VALUE=DATE:20240407
DTSTAMP:20260422T134753
CREATED:20231210T143504Z
LAST-MODIFIED:20240319T103758Z
UID:6920-1712361600-1712447999@waytkd.com
SUMMARY:Harrogate KTA 8th Mayor Cup Open Poomsae Championships
DESCRIPTION:Dear Members & Parents\, \n\n\n\n\nIt is our pleasure to extend this message to you and our students to take part in the \n8th KTA Mayor Cup Open Poomsae Championships \nWhich is to be held at the Rossett Sports Centre\, Pannal Ash Road Harrogate HG2 9JP\, on \nSaturday 6th of April 2024. \n\n\n\n\nFor more information click the link provided below.\nClick here \n 
URL:https://waytkd.com/calendar/harrogate-kta-8th-mayor-cup-open-poomsae-championships/
LOCATION:Rossett Sports Centre\, Harrogate\, Rossett Sports Centre\, Harrogate
CATEGORIES:Poomsae
ATTACH;FMTTYPE=image/png:https://waytkd.com/wp-content/uploads/2023/02/Screenshot-2023-02-18-at-17.41.40.png
END:VEVENT
BEGIN:VEVENT
DTSTART;VALUE=DATE:20240217
DTEND;VALUE=DATE:20240218
DTSTAMP:20260422T134753
CREATED:20231210T143349Z
LAST-MODIFIED:20240123T135338Z
UID:6917-1708128000-1708214399@waytkd.com
SUMMARY:2nd Ali's Dojang Open Poomsae Championships
DESCRIPTION:For more information click the link provided below.\nClick here \n 
URL:https://waytkd.com/calendar/2nd-alis-dojang-open-poomsae-championships/
LOCATION:SportsDock\, University of East London\, SportsDock\, University of East London
CATEGORIES:Poomsae
ATTACH;FMTTYPE=image/png:https://waytkd.com/wp-content/uploads/2023/02/Screenshot-2023-02-18-at-17.41.40-1.png
END:VEVENT
BEGIN:VEVENT
DTSTART;VALUE=DATE:20231014
DTEND;VALUE=DATE:20231016
DTSTAMP:20260422T134753
CREATED:20230523T081745Z
LAST-MODIFIED:20230523T082236Z
UID:6223-1697241600-1697414399@waytkd.com
SUMMARY:British Taekwondo National Poomsae Championships 2023
DESCRIPTION:The 2023 British Taekwondo National Poomsae Championships will take place at the University of Worcester Arena on Saturday 14th and Sunday 15th October. \nPlease mark the date in your diary and keep an eye on British Taekwondo’s channels for the entry pack later this summer. \nThe entry pack for the British Taekwondo National Poomsae Championships – Worcester 2023 will be released at a later date. British Taekwondo will provide at least one-weeks’ notice before it is published. Confirmation of the Dan and Kup days\, along with the other divisions\, will be within in the entry pack\, as well as the entry opening and closing dates. \nInformation about spectator tickets will also be included in the entry pack. \nThe University of Worcester Arena has been home to the British Taekwondo National Poomsae Championships since 2019\, providing state of the art facilities for the most prestigious Poomsae event on the calendar in the UK. We’re delighted to return to Worcester for the fourth time and look forward to joining the Poomsae community in a weekend of high-quality competition. \nEvent: British Taekwondo National Poomsae Championships 2023 \nDate: Saturday 14th and Sunday 15th October \nTimes: Session start times to be confirmed at a later date \nLocation: University of Worcester Arena\, Worcester\, WR2 5JN \nInformation Pack Click Here
URL:https://waytkd.com/calendar/british-taekwondo-national-poomsae-championships-2023/
LOCATION:University of Worcester Arena\, Hylton Rd\, Worceste\, WR2 5JN\, United Kingdom
CATEGORIES:Poomsae
ATTACH;FMTTYPE=image/png:https://waytkd.com/wp-content/uploads/2023/05/British-Taekwondo-National-Poomsae-Championships-2023-1-1200x600-1.png
END:VEVENT
BEGIN:VEVENT
DTSTART;TZID=Europe/London:20230917T090000
DTEND;TZID=Europe/London:20230917T180000
DTSTAMP:20260422T134753
CREATED:20230523T074122Z
LAST-MODIFIED:20231002T143751Z
UID:6216-1694941200-1694973600@waytkd.com
SUMMARY:6th Bluewave Open Poomsae Championships
DESCRIPTION:  \nDate: Sunday\, 17th September 2023 \nVenue: Conference Centre\, Hampshire Court Hotel\, 1 Centre Drive\, Chineham\, Basingstoke RG24 8FY \n\n\n\n\n\n\nAudits (coaches and competitors) \nThe deadline for submission of entries for audit is 11.59pm on Wednesday 30th August 2023. All competitors sent through audit must be paid for even if they withdraw. All coaches must be registered for the event prior to the audit. \nProtests \nOnly the Head Coach will be allowed to protest to the Chief Referee\, the protest form must be submitted within 10 minutes of the end of the contest in question. A fee of £75.00 will be paid for each protest lodged. The decision of the Chief Referee is final. \nThe entry fee are as follows: \n\n\n\n\n\n\nIndividual- £40\nPair (per pair)- £42\nTeam (per team of 3)- £46\nPara-Division- £40\nFreestyle £40\nFreestyle Pair (per pair)- £42\nFreestyle Team (per team of 5)- £50 \nMore information click here \nThank you.
URL:https://waytkd.com/calendar/6th-bluewave-open-poomsae-championships/
LOCATION:Hampshire Court Hotel\, Centre Dr\, Chineham Basingstoke\, RG24 8FY
CATEGORIES:Poomsae
ATTACH;FMTTYPE=image/png:https://waytkd.com/wp-content/uploads/2023/05/Screenshot-2023-05-23-at-08.38.11.png
END:VEVENT
BEGIN:VEVENT
DTSTART;TZID=Europe/London:20230701T083000
DTEND;TZID=Europe/London:20230701T183000
DTSTAMP:20260422T134753
CREATED:20230221T081552Z
LAST-MODIFIED:20230523T093156Z
UID:5913-1688200200-1688236200@waytkd.com
SUMMARY:2nd Best Leg Poomsae Championships
DESCRIPTION:COMPETITON DETAILS\n1. ORGANISATION\nEvent Sanctioned By: British Taekwondo\nOrganiser: Best Leg Taekwondo Academy \nOrganiser: Best Leg Taekwondo Academy\nFacebook: www.facebook.com/best-Leg-Taekwondo-Academy\nInstagram: bestlegtkdinternationalopen & bestlegtaekwondoacademy.\nWebsite: www.bestleg.com \nCompetition Director: Master Martins Obiorah\nE-Mail: martins.obiorah@bestleg.com \nEvent Chief Referee: Gerry REILLY\nEmail: chair.poomsaereferees@britishtaekwondo.org \nCompetition Management: Martins Obiorah\nContact: 07970 382 889\nEmail: martins.obiorah@bestleg.com \nSystem Management: Marko Marchevska \nCompetition Registration: www.poomsae-reg.com \nWelfare Officer: Ms Jade Campbell \nLead Medical Officer: DR Burhanudin Busu \n2. VENUE & DATE\nDate: Saturday 1st July 2023\nVenue: Crystal Palace National Sports Centre Ledrington Road\, Crystal Palace London\, SE19 2BB \n3. Entry Fee: £45 \n4. EVENT SCHEDULE\nRegistration: 08:30 – 09:00\nCoaches meeting: 09:10\nCompetition Start: 09:30\nCompetition Finish: 18:00\nAwards Ceremony: 18:30 \nAll times are approximate and subject to change \nInfo Pack
URL:https://waytkd.com/calendar/2nd-best-leg-poomsae-championships/
LOCATION:Crystal Palace National Sport Centre\, Ledrington Rd\, London\, SE19 2BB
CATEGORIES:Poomsae
ATTACH;FMTTYPE=image/png:https://waytkd.com/wp-content/uploads/2023/02/Screenshot-2023-02-18-at-17.41.40-1.png
END:VEVENT
BEGIN:VEVENT
DTSTART;TZID=Europe/London:20230507T093000
DTEND;TZID=Europe/London:20230507T200000
DTSTAMP:20260422T134753
CREATED:20230206T202133Z
LAST-MODIFIED:20250505T140700Z
UID:5803-1683451800-1683489600@waytkd.com
SUMMARY:London Taekwondo Poomsae Championships 2024
DESCRIPTION:Dear Taekwondo Friends\, \nIt is our pleasure to welcome you and your students to the 4th London Taekwondo Poomsae Championships. The event will be run under existing World Taekwondo Poomsae Competition rules. \nThe aim of this competition is to help Kup grades to develop\, gain confidence and provide an opportunity for them to compete. \nWe look forward to welcoming you all to London and hope you have an enjoyable and successful day. \n\n\n\nInformation Pack Click here
URL:https://waytkd.com/calendar/london-taekwondo-poomsae-championships/
LOCATION:aberdashers\, Knights Academy\, Launcelot Road\, Bromley\, London\, BR1 5EB\, United Kingdom
CATEGORIES:Championships,Poomsae
ATTACH;FMTTYPE=image/png:https://waytkd.com/wp-content/uploads/2023/02/london.png
ORGANIZER;CN="Master Azim Razak (7th Dan)":MAILTO:londonpoomsaechampionship2023@gmail.com
END:VEVENT
END:VCALENDAR