BEGIN:VCALENDAR
VERSION:2.0
PRODID:-//Way TKD - ECPv6.15.13//NONSGML v1.0//EN
CALSCALE:GREGORIAN
METHOD:PUBLISH
X-WR-CALNAME:Way TKD
X-ORIGINAL-URL:https://waytkd.com
X-WR-CALDESC:Events for Way TKD
REFRESH-INTERVAL;VALUE=DURATION:PT1H
X-Robots-Tag:noindex
X-PUBLISHED-TTL:PT1H
BEGIN:VTIMEZONE
TZID:Europe/London
BEGIN:DAYLIGHT
TZOFFSETFROM:+0000
TZOFFSETTO:+0100
TZNAME:BST
DTSTART:20220327T010000
END:DAYLIGHT
BEGIN:STANDARD
TZOFFSETFROM:+0100
TZOFFSETTO:+0000
TZNAME:GMT
DTSTART:20221030T010000
END:STANDARD
BEGIN:DAYLIGHT
TZOFFSETFROM:+0000
TZOFFSETTO:+0100
TZNAME:BST
DTSTART:20230326T010000
END:DAYLIGHT
BEGIN:STANDARD
TZOFFSETFROM:+0100
TZOFFSETTO:+0000
TZNAME:GMT
DTSTART:20231029T010000
END:STANDARD
BEGIN:DAYLIGHT
TZOFFSETFROM:+0000
TZOFFSETTO:+0100
TZNAME:BST
DTSTART:20240331T010000
END:DAYLIGHT
BEGIN:STANDARD
TZOFFSETFROM:+0100
TZOFFSETTO:+0000
TZNAME:GMT
DTSTART:20241027T010000
END:STANDARD
BEGIN:DAYLIGHT
TZOFFSETFROM:+0000
TZOFFSETTO:+0100
TZNAME:BST
DTSTART:20250330T010000
END:DAYLIGHT
BEGIN:STANDARD
TZOFFSETFROM:+0100
TZOFFSETTO:+0000
TZNAME:GMT
DTSTART:20251026T010000
END:STANDARD
BEGIN:DAYLIGHT
TZOFFSETFROM:+0000
TZOFFSETTO:+0100
TZNAME:BST
DTSTART:20260329T010000
END:DAYLIGHT
BEGIN:STANDARD
TZOFFSETFROM:+0100
TZOFFSETTO:+0000
TZNAME:GMT
DTSTART:20261025T010000
END:STANDARD
END:VTIMEZONE
BEGIN:VEVENT
DTSTART;VALUE=DATE:20251004
DTEND;VALUE=DATE:20251006
DTSTAMP:20260423T124727
CREATED:20250520T092227Z
LAST-MODIFIED:20250520T093154Z
UID:8537-1759536000-1759708799@waytkd.com
SUMMARY:2025 British Taekwondo Kyorugi (Sparring) National Championships
DESCRIPTION:Dear Way Taekwondo Students & Parents\, \nWe’re excited to share that the 2025 British Taekwondo Kyorugi National Championships will be held on: \n📅 Saturday 4th & Sunday 5th October 2025📍 EIS Sheffield\, Coleridge Rd\, Sheffield S9 5DA \nThis prestigious event will bring together the best Kyorugi athletes from across the UK for two thrilling days of Olympic-style Taekwondo\, showcasing incredible speed\, skill\, and spirit. \nAs part of Way Taekwondo\, we’d love to see our students and families get involved—whether by competing\, attending\, or supporting our athletes. \n➡️ If you’re interested in participating or attending\, please speak with your instructor or contact us directly to register your interest and book your place. \nLet’s represent Way Taekwondo with pride at this exciting national event! 💪🇬🇧
URL:https://waytkd.com/calendar/2025-british-taekwondo-kyorugi-sparring-national-championships/
LOCATION:EIS Sheffield\, Coleridge Rd\, Sheffield S9 5DA
CATEGORIES:Kyorugi,Tournament
ATTACH;FMTTYPE=image/png:https://waytkd.com/wp-content/uploads/2025/05/british-taekwondo-logo.png
END:VEVENT
BEGIN:VEVENT
DTSTART;VALUE=DATE:20240519
DTEND;VALUE=DATE:20240520
DTSTAMP:20260423T124727
CREATED:20240219T224636Z
LAST-MODIFIED:20240219T233723Z
UID:7098-1716076800-1716163199@waytkd.com
SUMMARY:WHISTON TKD 1-2-1 (Sparring Competition)
DESCRIPTION:Dear Members\, \nFor your information\, we are planning to take Way Taekwondo sparring team on this championships. you can find all the information on the provided link below. \nhttps://www.ma-regonline.com/tournaments/1617/WHISTON-TKD-1-2-1 \nEntry Fee: £35/entry\nSpectators Fees: Tickets are available on the door only – cash only. £8 Adults\, £5.00 Children Under 5’s free\nEntry Deadline: Last date for entries if event is not full Friday 10th May 2024\, 9pm \nWithdrawals after the 12th May only with agreement of event hosts and may be subjected to a £20 admin charge.\ninformation will be submitted for audit at this time. \nPlease let us know if you are interested. You must attend team training. Speak to your club Instructor if you have any question. \nKind regards\, \nWay Taekwondo
URL:https://waytkd.com/calendar/whiston-tkd-1-2-1-sparring-competition/
LOCATION:FireFit Hub\, 115 Upper Warwick Street\, L8 8HD\, United Kingdom
CATEGORIES:Calendar,Championships,Kyorugi
ATTACH;FMTTYPE=image/png:https://waytkd.com/wp-content/uploads/2024/02/whiston-1-2-1.png
END:VEVENT
BEGIN:VEVENT
DTSTART;VALUE=DATE:20230930
DTEND;VALUE=DATE:20231002
DTSTAMP:20260423T124727
CREATED:20230412T123529Z
LAST-MODIFIED:20230523T092136Z
UID:6112-1696032000-1696204799@waytkd.com
SUMMARY:British Taekwondo National Championships 2023 (Kyorugi)
DESCRIPTION:Dear members\, \nWe are planning to take part on this National Championships 2023. if you are intrested\, plese let us know soon. \nVENUE: EIS Sheffield\, Coleridge Road\, Sheffield S9 5DA \nDATE: \nADVANCE on Sat 30th September 2023\nNOVICE on Sunday 1st October 2023 \nOrganiser will be providing Daedo electronic body protector and e-headguard.\nAll athletes should bring their own Daedo socks and all other PPE/equipment. \nDeadline: 29th August 2023 \nEntry fee: £59 \nInformation Pack  \nWay Taekwondo
URL:https://waytkd.com/calendar/british-taekwondo-national-championships-2023-kyorugi/
LOCATION:Barnsley Metrodome\, Queens Ground\, Queens Rd\, Barnsley\, S71 1AN
CATEGORIES:Kyorugi,Tournament
ATTACH;FMTTYPE=image/png:https://waytkd.com/wp-content/uploads/2023/04/Screenshot-2023-05-23-at-09.28.12.png
END:VEVENT
BEGIN:VEVENT
DTSTART;VALUE=DATE:20230910
DTEND;VALUE=DATE:20230911
DTSTAMP:20260423T124727
CREATED:20230206T213814Z
LAST-MODIFIED:20230523T092528Z
UID:5822-1694304000-1694390399@waytkd.com
SUMMARY:Ultimate Open Championships (Kyorugi)
DESCRIPTION:Dear Members\, \nWe are planning to participate on “ULTIMATE OPEN CHAMPIONSHIPS” at BARNSLEY METRODOME\, S70 1AN. Please contact your instructor if you are intrested. Deadline is 1st September 2023. \nEntry Fee: £45 \nClasses:\nA Class: 2nd Kup (Red belt) and above.\nB Class 9th – 3rd kup \nFor more information Click here \nGoogle Map for your naviguation click here \nKind Regards\, \nWay Taekwondo
URL:https://waytkd.com/calendar/ultimate-open-championships-kyorugi/
CATEGORIES:Kyorugi
ATTACH;FMTTYPE=image/png:https://waytkd.com/wp-content/uploads/2023/02/Screenshot-2023-02-06-at-21.31.16.png
END:VEVENT
BEGIN:VEVENT
DTSTART;TZID=Europe/London:20230722T073000
DTEND;TZID=Europe/London:20230722T210000
DTSTAMP:20260423T124727
CREATED:20230206T212433Z
LAST-MODIFIED:20230523T092657Z
UID:5818-1690011000-1690059600@waytkd.com
SUMMARY:LMC Prize Fighting 1-2-1 (Kyorugi)
DESCRIPTION:Dear Members\, \nWe are planning to participate on “LMC Prize Fighting 1-2-1 Match Day\, 22 July 2023” at Places of Leisure Eastleigh\nSO50 9NL Passfield Avenue\,Eastleigh\, Southampton\, Hampshire. Please contact your instructor if you are intrested. \nDeadline is 1st July 2023. \nEntry Fee: £35 \nFor more information Click here \nGoogle map for your navigation click here \nKind Regards\, \nWay Taekwondo
URL:https://waytkd.com/calendar/lmc-prize-fighting-1-2-1-kyorugi/
CATEGORIES:Kyorugi
ATTACH;FMTTYPE=image/jpeg:https://waytkd.com/wp-content/uploads/2019/02/10155924_373666316108562_7567855338827598980_n.jpg
END:VEVENT
END:VCALENDAR