BEGIN:VCALENDAR
VERSION:2.0
PRODID:-//Way TKD - ECPv6.15.13//NONSGML v1.0//EN
CALSCALE:GREGORIAN
METHOD:PUBLISH
X-WR-CALNAME:Way TKD
X-ORIGINAL-URL:https://waytkd.com
X-WR-CALDESC:Events for Way TKD
REFRESH-INTERVAL;VALUE=DURATION:PT1H
X-Robots-Tag:noindex
X-PUBLISHED-TTL:PT1H
BEGIN:VTIMEZONE
TZID:Europe/London
BEGIN:DAYLIGHT
TZOFFSETFROM:+0000
TZOFFSETTO:+0100
TZNAME:BST
DTSTART:20190331T010000
END:DAYLIGHT
BEGIN:STANDARD
TZOFFSETFROM:+0100
TZOFFSETTO:+0000
TZNAME:GMT
DTSTART:20191027T010000
END:STANDARD
BEGIN:DAYLIGHT
TZOFFSETFROM:+0000
TZOFFSETTO:+0100
TZNAME:BST
DTSTART:20200329T010000
END:DAYLIGHT
BEGIN:STANDARD
TZOFFSETFROM:+0100
TZOFFSETTO:+0000
TZNAME:GMT
DTSTART:20201025T010000
END:STANDARD
BEGIN:DAYLIGHT
TZOFFSETFROM:+0000
TZOFFSETTO:+0100
TZNAME:BST
DTSTART:20210328T010000
END:DAYLIGHT
BEGIN:STANDARD
TZOFFSETFROM:+0100
TZOFFSETTO:+0000
TZNAME:GMT
DTSTART:20211031T010000
END:STANDARD
BEGIN:DAYLIGHT
TZOFFSETFROM:+0000
TZOFFSETTO:+0100
TZNAME:BST
DTSTART:20220327T010000
END:DAYLIGHT
BEGIN:STANDARD
TZOFFSETFROM:+0100
TZOFFSETTO:+0000
TZNAME:GMT
DTSTART:20221030T010000
END:STANDARD
BEGIN:DAYLIGHT
TZOFFSETFROM:+0000
TZOFFSETTO:+0100
TZNAME:BST
DTSTART:20230326T010000
END:DAYLIGHT
BEGIN:STANDARD
TZOFFSETFROM:+0100
TZOFFSETTO:+0000
TZNAME:GMT
DTSTART:20231029T010000
END:STANDARD
BEGIN:DAYLIGHT
TZOFFSETFROM:+0000
TZOFFSETTO:+0100
TZNAME:BST
DTSTART:20240331T010000
END:DAYLIGHT
BEGIN:STANDARD
TZOFFSETFROM:+0100
TZOFFSETTO:+0000
TZNAME:GMT
DTSTART:20241027T010000
END:STANDARD
BEGIN:DAYLIGHT
TZOFFSETFROM:+0000
TZOFFSETTO:+0100
TZNAME:BST
DTSTART:20250330T010000
END:DAYLIGHT
BEGIN:STANDARD
TZOFFSETFROM:+0100
TZOFFSETTO:+0000
TZNAME:GMT
DTSTART:20251026T010000
END:STANDARD
BEGIN:DAYLIGHT
TZOFFSETFROM:+0000
TZOFFSETTO:+0100
TZNAME:BST
DTSTART:20260329T010000
END:DAYLIGHT
BEGIN:STANDARD
TZOFFSETFROM:+0100
TZOFFSETTO:+0000
TZNAME:GMT
DTSTART:20261025T010000
END:STANDARD
BEGIN:DAYLIGHT
TZOFFSETFROM:+0000
TZOFFSETTO:+0100
TZNAME:BST
DTSTART:20270328T010000
END:DAYLIGHT
BEGIN:STANDARD
TZOFFSETFROM:+0100
TZOFFSETTO:+0000
TZNAME:GMT
DTSTART:20271031T010000
END:STANDARD
END:VTIMEZONE
BEGIN:VEVENT
DTSTART;VALUE=DATE:20260330
DTEND;VALUE=DATE:20260412
DTSTAMP:20260419T102735
CREATED:20251213T141021Z
LAST-MODIFIED:20260323T101829Z
UID:9276-1774828800-1775951999@waytkd.com
SUMMARY:Easter Break - 30th March - 11th April 2026
DESCRIPTION:Advance Notice – Easter Break Closure \nPlease be aware that Way Taekwondo will be taking a short break during the Easter holidays to allow our members and instructors to spend time with their families. \nDates to note: \n\nClub Closed: Monday 30th March 2026\nRe-Opens: Sunday 12th April 2026\n\nPlease ensure you mark these dates in your diary. We wish everyone a restful break!
URL:https://waytkd.com/calendar/easter-break-30th-march-11th-april-2026/
CATEGORIES:Holiday
ATTACH;FMTTYPE=image/jpeg:https://waytkd.com/wp-content/uploads/2022/02/Easter-Ski-Holiday-Deals-2022-1.jpg
END:VEVENT
BEGIN:VEVENT
DTSTART;VALUE=DATE:20251222
DTEND;VALUE=DATE:20260104
DTSTAMP:20260419T102735
CREATED:20250828T141558Z
LAST-MODIFIED:20250828T141754Z
UID:8789-1766361600-1767484799@waytkd.com
SUMMARY:Christmas Break
DESCRIPTION:Hello Way Taekwondo members\, \nThis is our plan for Christmas Break and will be closed our all clubs between 22nd Dec 2025 to 3rd Jan 2026. \nClub is opening from Sunday 4th January 2026. \nBest wishes\, \nThe Way TKD Team
URL:https://waytkd.com/calendar/christmas-break/
CATEGORIES:Holiday
ATTACH;FMTTYPE=image/jpeg:https://waytkd.com/wp-content/uploads/2020/11/unnamed.jpg
END:VEVENT
BEGIN:VEVENT
DTSTART;VALUE=DATE:20250728
DTEND;VALUE=DATE:20250812
DTSTAMP:20260419T102735
CREATED:20250722T144838Z
LAST-MODIFIED:20250723T111617Z
UID:8754-1753660800-1754956799@waytkd.com
SUMMARY:Summer Break 2025
DESCRIPTION:Dear Members\,  \nJust to keep you informed\, our club will be taking a summer break for two weeks – from Monday\, 28th July to Monday\, 11th August.  \nWe’ll reopen and resume classes from Tuesday\, 12th August.  \nWishing you a restful and enjoyable break. We look forward to seeing you soon!  \nWarm regards\,\nMaster Ista Gurung
URL:https://waytkd.com/calendar/summer-break-2025/
CATEGORIES:Holiday
ATTACH;FMTTYPE=image/jpeg:https://waytkd.com/wp-content/uploads/2021/08/summer-break.jpeg
END:VEVENT
BEGIN:VEVENT
DTSTART;VALUE=DATE:20250328
DTEND;VALUE=DATE:20250410
DTSTAMP:20260419T102735
CREATED:20241226T123056Z
LAST-MODIFIED:20241226T123056Z
UID:7875-1743120000-1744243199@waytkd.com
SUMMARY:Easter Break 2025
DESCRIPTION:Dear Members\,\nWe are taking Easter break from 28th March 2025 – 9th April 2025. Club will be closed during this period. \nClub opening from Thursday 10th April 2025. \nThank you.\nWay Taekwondo
URL:https://waytkd.com/calendar/easter-break-2025/
CATEGORIES:Holiday
ATTACH;FMTTYPE=image/jpeg:https://waytkd.com/wp-content/uploads/2022/02/Easter-Ski-Holiday-Deals-2022-1.jpg
END:VEVENT
BEGIN:VEVENT
DTSTART;VALUE=DATE:20241223
DTEND;VALUE=DATE:20250105
DTSTAMP:20260419T102735
CREATED:20231124T191639Z
LAST-MODIFIED:20240328T113104Z
UID:6884-1734912000-1736035199@waytkd.com
SUMMARY:Christmas Holiday 2024
DESCRIPTION:Hello Way Taekwondo members\, \nThis is our plan for Christmas Holiday and will be closed our all clubs between 23rd Dec 2024 to 4th Jan 2025. \nClub is opening from Sunday 5th January 2025. \nBest wishes\, \nThe Way TKD Team
URL:https://waytkd.com/calendar/christmas-holiday-2024/
CATEGORIES:Calendar,Holiday
ATTACH;FMTTYPE=image/jpeg:https://waytkd.com/wp-content/uploads/2020/11/unnamed.jpg
END:VEVENT
BEGIN:VEVENT
DTSTART;VALUE=DATE:20241103
DTEND;VALUE=DATE:20241104
DTSTAMP:20260419T102735
CREATED:20231124T201254Z
LAST-MODIFIED:20241028T045946Z
UID:6907-1730592000-1730678399@waytkd.com
SUMMARY:Club Closed\, Sunday 3rd November\, Tihar Festival 2024
DESCRIPTION:Dear Club Members\, \nWe have an important announcement concerning our club’s schedule. \nIn honour of the Nepalese Festival “Tihar\,” also known as the Festival of Lights and a celebration of the bond between brothers and sisters\, animals\, and nature\, our club will remain closed on Sunday\, 3rd November 2024. \nTihar holds a special place in our hearts as it signifies the warmth of family bonds\, our connection with animals\, and our harmony with nature. We encourage all our members to immerse themselves in the beauty and traditions of this festival. \nPlease note that there will be no scheduled classes or club activities on this day. We apologise for any inconvenience this temporary closure may cause and appreciate your understanding. \nAs we celebrate Tihar\, we extend our warmest wishes to you and your loved ones. \nHappy Tihar to all. \nWay Taekwondo
URL:https://waytkd.com/calendar/club-closed-sunday-3rd-november-tihar-festival-2024/
CATEGORIES:Calendar,Holiday
ATTACH;FMTTYPE=image/png:https://waytkd.com/wp-content/uploads/2023/11/9f9018cd98471b80f8f6bd9093dad82c.png
END:VEVENT
BEGIN:VEVENT
DTSTART;VALUE=DATE:20240729
DTEND;VALUE=DATE:20240811
DTSTAMP:20260419T102735
CREATED:20231124T192915Z
LAST-MODIFIED:20240729T145013Z
UID:6890-1722211200-1723334399@waytkd.com
SUMMARY:Summer Break 2024
DESCRIPTION:Dear Members\,\nWe are taking Summer break from 29th July 2024 – 10th August 2024. Club will be closed during this period.\nEnjoy Your Holiday. \nClub opening from Sunday 11th August 2024. \nThank you.\nWay Taekwondo
URL:https://waytkd.com/calendar/summer-break-2024/
CATEGORIES:Calendar,Holiday
ATTACH;FMTTYPE=image/jpeg:https://waytkd.com/wp-content/uploads/2021/08/summer-break.jpeg
END:VEVENT
BEGIN:VEVENT
DTSTART;VALUE=DATE:20240401
DTEND;VALUE=DATE:20240410
DTSTAMP:20260419T102735
CREATED:20231124T193708Z
LAST-MODIFIED:20240328T112651Z
UID:6894-1711929600-1712707199@waytkd.com
SUMMARY:Easter Holiday 2024
DESCRIPTION:Dear Members\,\nWe are taking Easter holiday from 1st April 2024 – 9th April 2024. Club will be closed during this period.\nEnjoy Your Holiday. \nClub opening from Wednesday 10th March 2024. \nThank you.\nWay Taekwondo
URL:https://waytkd.com/calendar/easter-holiday-2024/
CATEGORIES:Calendar,Holiday
ATTACH;FMTTYPE=image/jpeg:https://waytkd.com/wp-content/uploads/2022/02/Easter-Ski-Holiday-Deals-2022-1.jpg
END:VEVENT
BEGIN:VEVENT
DTSTART;VALUE=DATE:20231222
DTEND;VALUE=DATE:20240104
DTSTAMP:20260419T102735
CREATED:20230412T124729Z
LAST-MODIFIED:20231124T194937Z
UID:6115-1703203200-1704326399@waytkd.com
SUMMARY:Christmas Holiday 2023
DESCRIPTION:Hello Way Taekwondo members\, \nWe hope you’re well. We want to let you know about our Christmas and New Year break. We’ll be closed from 22nd December 2023 to 3rd January 2024\, so we can spend time with our families. We’ll be back to our usual schedule on Thursday 4th January 2024. \nThank you for your support this year. We feel privileged to have served you in 2023. We wish you a happy Christmas and New Year! \nBest wishes\, \nThe Way TKD Team
URL:https://waytkd.com/calendar/christmas-holiday-2023/
CATEGORIES:Calendar,Holiday
ATTACH;FMTTYPE=image/jpeg:https://waytkd.com/wp-content/uploads/2020/11/unnamed.jpg
END:VEVENT
BEGIN:VEVENT
DTSTART;VALUE=DATE:20230801
DTEND;VALUE=DATE:20230813
DTSTAMP:20260419T102735
CREATED:20221122T144702Z
LAST-MODIFIED:20221203T123819Z
UID:5484-1690848000-1691884799@waytkd.com
SUMMARY:Summer Holiday
DESCRIPTION:Dear Members\,\nWe are taking Summer holiday from 1st August 2023 – 12th August 2023. Club will be closed during this period.\nEnjoy Your Holiday. \nThank you.\nWay Taekwondo
URL:https://waytkd.com/calendar/summer-holiday/
CATEGORIES:Holiday
ATTACH;FMTTYPE=image/jpeg:https://waytkd.com/wp-content/uploads/2021/08/summer-break.jpeg
END:VEVENT
BEGIN:VEVENT
DTSTART;VALUE=DATE:20230401
DTEND;VALUE=DATE:20230411
DTSTAMP:20260419T102735
CREATED:20221122T144511Z
LAST-MODIFIED:20221203T123846Z
UID:5482-1680307200-1681171199@waytkd.com
SUMMARY:Easter Holiday
DESCRIPTION:Dear Members\,\nWe are taking Easter holiday from 1st April 2023 – 10th April 2023. Club will be closed during this period.\nEnjoy Your Holiday. \nThank you.\nWay Taekwondo
URL:https://waytkd.com/calendar/easter-holiday/
CATEGORIES:Holiday
ATTACH;FMTTYPE=image/jpeg:https://waytkd.com/wp-content/uploads/2022/02/Easter-Ski-Holiday-Deals-2022-1.jpg
END:VEVENT
BEGIN:VEVENT
DTSTART;TZID=Europe/London:20221223T000000
DTEND;TZID=Europe/London:20230103T000000
DTSTAMP:20260419T102735
CREATED:20211221T104942Z
LAST-MODIFIED:20221203T123914Z
UID:3516-1671753600-1672704000@waytkd.com
SUMMARY:Christmas & New Year Holiday 2022
DESCRIPTION:Dear Way Taekwondo members\, \nWe would like to give you early information about Christmas and New year holiday for year 2022-2023. Christmas & New year holiday starts from 23rd December 2022 to 3rd January 2023. During this period club will be closed. Club will be reopening from Wednesday 4th January 2023.\n\nThank you!
URL:https://waytkd.com/calendar/christmas-new-year-holiday-2022/
CATEGORIES:Holiday
ATTACH;FMTTYPE=image/jpeg:https://waytkd.com/wp-content/uploads/2020/11/unnamed.jpg
END:VEVENT
BEGIN:VEVENT
DTSTART;VALUE=DATE:20220808
DTEND;VALUE=DATE:20220815
DTSTAMP:20260419T102735
CREATED:20220303T145801Z
LAST-MODIFIED:20221203T124016Z
UID:4026-1659916800-1660521599@waytkd.com
SUMMARY:Summer Holiday 2022
DESCRIPTION:Dear Members\, \nWe would like to inform you that during this summer time we have decided to take one week break for our Instructors and members. \nOur one week summer break will starts from: Monday 8th August – Sunday 14th August 2022. \nNext class will be starting from: Tuesday 16th August 2022. \nHave a nice Summer Holiday \nThank you!
URL:https://waytkd.com/calendar/summer-holiday-2022/
CATEGORIES:Holiday
ATTACH;FMTTYPE=image/jpeg:https://waytkd.com/wp-content/uploads/2021/08/summer-break.jpeg
END:VEVENT
BEGIN:VEVENT
DTSTART;VALUE=DATE:20220401
DTEND;VALUE=DATE:20220417
DTSTAMP:20260419T102735
CREATED:20220302T021347Z
LAST-MODIFIED:20220303T145953Z
UID:4002-1648771200-1650153599@waytkd.com
SUMMARY:Easter Holiday | 1st April-16th April 2022
DESCRIPTION:  \nHello everyone\, \nWay Taekwondo is going to take two weeks Easter break in April 2022.\n  \nBreak start date: 1st April 2022\nBreak end date: 16th April 2022\n\n  \nClub will be opening from: Sunday 17th April 2022.\n\n  \nHappy Easter and enjoy your holiday.\n\n  \nBest wishes\,\n\n  \nWay Taekwondo
URL:https://waytkd.com/calendar/easter-holiday-2022/
CATEGORIES:Holiday
ATTACH;FMTTYPE=image/jpeg:https://waytkd.com/wp-content/uploads/2022/02/Easter-Ski-Holiday-Deals-2022-1.jpg
END:VEVENT
BEGIN:VEVENT
DTSTART;TZID=Europe/London:20211222T000000
DTEND;TZID=Europe/London:20220103T000000
DTSTAMP:20260419T102735
CREATED:20211007T092755Z
LAST-MODIFIED:20221203T123357Z
UID:3219-1640131200-1641168000@waytkd.com
SUMMARY:Christmas & New Year Holiday 2021
DESCRIPTION:Dear Way Taekwondo members\, \n\nWe would like to give you early information about Christmas and New year holiday for this year. Christmas & New year holiday starts from 22nd of December 2021 to 3rd January 2022. During this period club will be closed. Club will be reopening from Tuesday 4th January 2022.\n\nIt has been our honor to serve you in 2021. May Christmas fill your heart with joy and happiness! Merry Christmas & Happy New Year to you and your family! Best wishes from Way TKD
URL:https://waytkd.com/calendar/christmas-new-year-holiday-2021/
CATEGORIES:Holiday
ATTACH;FMTTYPE=image/jpeg:https://waytkd.com/wp-content/uploads/2020/11/unnamed.jpg
END:VEVENT
BEGIN:VEVENT
DTSTART;VALUE=DATE:20200329
DTEND;VALUE=DATE:20200412
DTSTAMP:20260419T102735
CREATED:20200128T152431Z
LAST-MODIFIED:20200128T152520Z
UID:1448-1585440000-1586649599@waytkd.com
SUMMARY:Easter Holiday | 29th Mar 2020
DESCRIPTION:Dear Members and Parents\, \nWe would like to inform you about Easter holiday. We are closing our clubs from 29th March 2020 – 11th April 2020. I hope you will have good holiday with your family. \nEnjoy your holiday. See you all very soon.
URL:https://waytkd.com/calendar/easter-holiday-29th-mar-2020/
CATEGORIES:Holiday
ATTACH;FMTTYPE=image/png:https://waytkd.com/wp-content/uploads/2019/07/sorry-closed.png
END:VEVENT
END:VCALENDAR